BEGIN:VCALENDAR
VERSION:2.0
PRODID:-//International Massage Academy of Switzerland (IMASWISS) - ECPv6.15.20//NONSGML v1.0//EN
CALSCALE:GREGORIAN
METHOD:PUBLISH
X-WR-CALNAME:International Massage Academy of Switzerland (IMASWISS)
X-ORIGINAL-URL:https://imaswiss.com/en
X-WR-CALDESC:Events for International Massage Academy of Switzerland (IMASWISS)
REFRESH-INTERVAL;VALUE=DURATION:PT1H
X-Robots-Tag:noindex
X-PUBLISHED-TTL:PT1H
BEGIN:VTIMEZONE
TZID:UTC
BEGIN:STANDARD
TZOFFSETFROM:+0000
TZOFFSETTO:+0000
TZNAME:UTC
DTSTART:20250101T000000
END:STANDARD
END:VTIMEZONE
BEGIN:VEVENT
DTSTART;TZID=UTC:20260503T083000
DTEND;TZID=UTC:20260503T173000
DTSTAMP:20260425T040854
CREATED:20251201T155306Z
LAST-MODIFIED:20260312T022617Z
UID:16494-1777797000-1777829400@imaswiss.com
SUMMARY:Analyse posturale
DESCRIPTION:Analyse posturale				\n				\n		\n					\n				\n				\n					\n	\n	Date & Time:	\n			May 3\n\n	\n\n	  @  \n\n\n08:30\n\n		\n\n\n\n	\n	  -  \n\n17:30\n\n\n\n	\n				\n				\n				\n				\n					\n	Cost: \n300.- CHF 				\n				\n					\n				\n				\n				\n									03 Mai 2026 de 08:30-17:30h  / 8 heures de formation continue Coût 300.- 								\n				\n				\n				\n					\n	\n				\n				\n		\n					\n				\n				\n									\n					\n						\n						\n							\n									Contacter nous\n					\n					\n				\n								\n				\n					\n				\n				\n						\n					\n			\n						\n				\n									\n\n			\n						\n			5.0 Stars – Based on 110 User Reviews\n\n 								\n				\n				\n				\n									L’analyse posturale est une évaluation de la posture d’une personne pour identifier les déséquilibres corporels\, qui peuvent causer des douleurs ou affecter les performances.Elle peut inclure l’étude de la colonne vertébrale\, des pieds\, de la mâchoire et des yeux\, en statique comme en mouvement (marche ou course). Le but est de détecter les problèmes à la source afin de mettre en place un traitement ou une prévention adaptée. Objectifs de l’analyse posturale Identifier les déséquilibres : Détecter les asymétries ou déviations qui peuvent être à l’origine de problèmes.Prévenir les douleurs : Anticiper l’apparition de douleurs chroniques en corrigeant les déséquilibres avant qu’ils ne deviennent pathologiques.Améliorer les performances : Optimiser la stabilité\, les appuis et l’efficacité des mouvements\, que ce soit pour le sport ou dans la vie quotidienne.Traiter les causes : Comprendre l’origine d’un trouble pour proposer un traitement de fond plutôt qu’une simple gestion des symptômes.Comment cela fonctionne Examen complet : L’analyse prend en compte l’ensemble du corps\, y compris les pieds (alignement\, arches)\, la colonne vertébrale (courbures\, déformations)\, la mâchoire\, les yeux et le mouvement (marche\, course).Analyse statique et dynamique : Elle évalue la posture au repos (statique) ainsi que lors du mouvement (dynamique) pour détecter les déficiences qui se manifestent différemment selon l’activité.Outils spécialisés : Des outils de pointe peuvent être utilisés\, notamment pour l’analyse de la pression plantaire\, l’enregistrement vidéo et l’évaluation de la puissance en cyclisme.Approche pluridisciplinaire : Le bilan peut être complété par une concertation entre plusieurs professionnels de la santé pour une approche plus complète.Pour qui ? Toute personne : Pour prévenir les problèmes futurs ou améliorer le bien-être général.Sportifs : Pour optimiser les performances et éviter les blessures dues à une mauvaise posture sur le vélo ou pendant la course.Enfants : Pour détecter et corriger les déformations articulaires (comme la scoliose ou les pieds plats) le plus tôt possible.								\n				\n				\n				\n									Consultez les informations complètes sur le cours de massage sur ce lien ici.								\n				\n					\n		\n					\n		\n				\n						\n					\n			\n						\n				\n					VEnue INFO:				\n				\n				\n				\n					\n				\n				\n	\n			\n		IMAS Sàrl Fribourg			\n	\n	\n	Address:\n	\n\nRue de Locarno 6\n	\n		\n		Fribourg\,\n\n\n	1700\n\n	Switzerland\n\n\n\n\n	+ Google Map \n\n\n	\n	Phone:\n					\n			+41798965202			\n	 \n\n\n	\n	 \n\n\n\n	\n\n\n\n		\n	\n				\n				\n					\n		\n					\n		\n				\n						\n					\n			\n						\n				\n					\n	\n		\n\n				Journée de création de protocole de massage	\n\n\n		\n	\n		Techniques de mobilisations et étirements			\n\n	\n\n				\n				\n					\n		\n					\n		\n					\n		\n				\n			\n						\n				\n					Share this event:\n				\n				\n				\n				\n							\n								\n						\n															\n															\n																				\n					\n									\n						\n															\n															\n																				\n					\n									\n						\n															\n															\n																				\n					\n									\n						\n															\n															\n																				\n					\n									\n						\n															\n															\n																				\n					\n									\n						\n															\n															\n																				\n					\n						\n						\n				\n				\n				\n					\n	\n\n	Categories:	\n		Suisse Cours de Massage en Français	\n\n				\n				\n				\n				\n					\n	\n		\n\n	\n	Add to calendar	\n		\n	\n\n		\n			\n									\n	Google Calendar\n\n									\n	iCalendar\n\n									\n	Outlook 365\n\n																\n		\n\n		\n	\n\n				\n				\n		\n					\n				\n				\n					Register / S'inscrire\n				\n				\n				\n				\n							\n			\n			\n			\n\n							\n			\n			\n								\n												\n								First Name							\n														\n											\n								\n												\n								Last Name							\n														\n											\n								\n												\n								Email							\n														\n											\n								\n												\n								Phone							\n														\n											\n								\n												\n								Address							\n														\n											\n								\n												\n								Birth Date							\n														\n											\n								\n												\n								Message							\n										\n								\n									\n								\n									\n								\n							\n			\n				\n				\nJ'accepte la \n  \n    \n      politique de confidentialité\n    \n  \n\n			\n		\n						\n								\n													\n											\n								\n													\n											\n								\n													\n											\n								\n					\n						\n															\n																										\n																						S'INSCRIRE \n													\n					\n				\n			\n		\n						\n				\n					\n				\n					\n		\n					\n		\n		\n					\n				\n				\n					\n	\n	Related Events\n\n\n	\n\n	\n	\n		\n\n		\n			\n	\n		Massage Sportif	\n\n\n	April 25 @ 08:30 - April 26 @ 17:30  UTC+0  \n		\n	\n\n\n	\n	\n		\n\n		\n			\n	\n		Journée de création de protocole de massage	\n\n\n	May 2 @ 08:30 - 17:30  UTC+0  \n		\n	\n\n\n	\n	\n		\n\n		\n			\n	\n		Techniques de mobilisations et étirements	\n\n\n	May 10 @ 08:30 - 17:30  UTC+0
URL:https://imaswiss.com/en/evenement/analyse-posturale/
LOCATION:IMAS Sàrl Fribourg\, Rue de Locarno 6\, Fribourg\, 1700\, Switzerland
CATEGORIES:Suisse Cours de Massage en Français
ATTACH;FMTTYPE=image/png:https://imaswiss.com/wp-content/uploads/2025/12/Picture1.png
END:VEVENT
END:VCALENDAR