BEGIN:VCALENDAR
VERSION:2.0
PRODID:-//International Massage Academy of Switzerland (IMASWISS) - ECPv6.15.20//NONSGML v1.0//EN
CALSCALE:GREGORIAN
METHOD:PUBLISH
X-WR-CALNAME:International Massage Academy of Switzerland (IMASWISS)
X-ORIGINAL-URL:https://imaswiss.com/en
X-WR-CALDESC:Events for International Massage Academy of Switzerland (IMASWISS)
REFRESH-INTERVAL;VALUE=DURATION:PT1H
X-Robots-Tag:noindex
X-PUBLISHED-TTL:PT1H
BEGIN:VTIMEZONE
TZID:UTC
BEGIN:STANDARD
TZOFFSETFROM:+0000
TZOFFSETTO:+0000
TZNAME:UTC
DTSTART:20250101T000000
END:STANDARD
END:VTIMEZONE
BEGIN:VEVENT
DTSTART;TZID=UTC:20260518T083000
DTEND;TZID=UTC:20260522T173000
DTSTAMP:20260424T170912
CREATED:20240904T115522Z
LAST-MODIFIED:20260312T073737Z
UID:13333-1779093000-1779471000@imaswiss.com
SUMMARY:Maîtrise du Massage des Tissus Profonds
DESCRIPTION:Maîtrise du Massage des Tissus Profonds				\n				\n		\n					\n				\n				\n					\n	\n	Date & Time:	\n			May 18\n\n	\n\n	  @  \n\n\n08:30\n\n	\n\n		\n	\n	  -  \n\n	May 22\n\n	\n\n	  @  \n\n\n17:30\n\n\n\n	\n				\n				\n				\n				\n					\n	Cost: \n1600.- CHF 				\n				\n					\n				\n				\n				\n									18-22 Mai 2026 de 08:30-17:30h  / 40 heures de formation continue Coût 1600.- 								\n				\n				\n				\n					\n	\n				\n				\n		\n					\n				\n				\n									\n					\n						\n						\n							\n									Contacter nous\n					\n					\n				\n								\n				\n					\n				\n				\n						\n					\n			\n						\n				\n									\n\n			\n						\n			5.0 Étoiles basées sur 110 Commentaires\n\n 								\n				\n				\n				\n									Élevez vos compétences en massage avec IMAS Sàrl 5 jours Cours de Maîtrise en Massage des Tissus Profond à des fins thérapeutiques et médicales Des étudiants du monde entier suivent nos cours de massage. Veuillez noter que nos formations ont lieu en Suisse et se déroulent en anglais et en français. 								\n				\n				\n				\n									Le cours couvrira les sujets suivants : – Ergonomie du massothérapeute. – Correction des techniques de base du massage – Massage classique des tissus profonds – Massage avancé des tissus profonds avec mobilisation (traitements pour les cas cliniques et médicaux) 								\n				\n					\n		\n					\n		\n				\n						\n					\n			\n						\n				\n					Informations sur le lieu :				\n				\n				\n				\n					\n				\n				\n	\n			\n		IMAS Sàrl Fribourg			\n	\n	\n	Address:\n	\n\nRue de Locarno 6\n	\n		\n		Fribourg\,\n\n\n	1700\n\n	Switzerland\n\n\n\n\n	+ Google Map \n\n\n	\n	Phone:\n					\n			+41798965202			\n	 \n\n\n	\n	 \n\n\n\n	\n\n\n\n		\n	\n				\n				\n					\n		\n					\n		\n				\n						\n					\n			\n						\n				\n					\n	\n		\n\n				Massage prénatal (Massage des femmes enceintes)	\n\n\n		\n	\n		Massage assis « Amma » Massage entreprises			\n\n	\n\n				\n				\n					\n		\n					\n		\n					\n		\n				\n			\n						\n				\n					Partager cet événement :\n				\n				\n				\n				\n							\n								\n						\n															\n															\n																				\n					\n									\n						\n															\n															\n																				\n					\n									\n						\n															\n															\n																				\n					\n									\n						\n															\n															\n																				\n					\n									\n						\n															\n															\n																				\n					\n									\n						\n															\n															\n																				\n					\n						\n						\n				\n				\n				\n					\n	\n\n	Categories:	\n		International Courses	\n\n				\n				\n				\n				\n					\n	\n	Organizer\n			ÎMAS Academy Sàrl	\n\n	\n	\n\n	Phone:\n					\n			+41 79 896 52 02			\n	 \n\n\n	\n	Email:\n					\n			info@imaswiss.com			\n	 \n\n\n\n				\n				\n				\n				\n					\n	\n		\n\n	\n	Add to calendar	\n		\n	\n\n		\n			\n									\n	Google Calendar\n\n									\n	iCalendar\n\n									\n	Outlook 365\n\n																\n		\n\n		\n	\n\n				\n				\n		\n					\n				\n				\n					S'inscrire\n				\n				\n				\n				\n							\n			\n			\n			\n\n							\n			\n			\n								\n												\n								First Name							\n														\n											\n								\n												\n								Last Name							\n														\n											\n								\n												\n								Email							\n														\n											\n								\n												\n								Phone							\n														\n											\n								\n												\n								Address							\n														\n											\n								\n												\n								Birth Date							\n														\n											\n								\n												\n								Message							\n										\n								\n									\n								\n									\n								\n							\n			\n				\n				\nJ'accepte la \n  \n    \n      politique de confidentialité\n    \n  \n\n			\n		\n						\n								\n													\n											\n								\n													\n											\n								\n													\n											\n								\n					\n						\n															\n																										\n																						S'INSCRIRE \n													\n					\n				\n			\n		\n						\n				\n					\n				\n					\n		\n					\n		\n		\n					\n				\n				\n					\n	\n	Related Events\n\n\n	\n\n	\n	\n		\n\n		\n			\n	\n		Techniques de mobilisations et étirements	\n\n\n	May 10 @ 08:30 - 17:30  UTC+0
URL:https://imaswiss.com/en/evenement/master-of-deep-tissue-massage/
LOCATION:IMAS Sàrl Fribourg\, Rue de Locarno 6\, Fribourg\, 1700\, Switzerland
CATEGORIES:International Courses
ATTACH;FMTTYPE=image/png:https://imaswiss.com/wp-content/uploads/2024/09/Picture1.png
ORGANIZER;CN="%C3%8EMAS Academy S%C3%A0rl":MAILTO:info@imaswiss.com
END:VEVENT
END:VCALENDAR