BEGIN:VCALENDAR
VERSION:2.0
PRODID:-//International Massage Academy of Switzerland (IMASWISS) - ECPv6.15.20//NONSGML v1.0//EN
CALSCALE:GREGORIAN
METHOD:PUBLISH
X-WR-CALNAME:International Massage Academy of Switzerland (IMASWISS)
X-ORIGINAL-URL:https://imaswiss.com
X-WR-CALDESC:Évènements pour International Massage Academy of Switzerland (IMASWISS)
REFRESH-INTERVAL;VALUE=DURATION:PT1H
X-Robots-Tag:noindex
X-PUBLISHED-TTL:PT1H
BEGIN:VTIMEZONE
TZID:UTC
BEGIN:STANDARD
TZOFFSETFROM:+0000
TZOFFSETTO:+0000
TZNAME:UTC
DTSTART:20230101T000000
END:STANDARD
END:VTIMEZONE
BEGIN:VEVENT
DTSTART;VALUE=DATE:20240815
DTEND;VALUE=DATE:20240817
DTSTAMP:20260425T132720
CREATED:20240817T061356Z
LAST-MODIFIED:20250620T161227Z
UID:13002-1723680000-1723852799@imaswiss.com
SUMMARY:Points gâchettes et technique de libération des étirements musculaires
DESCRIPTION:Cet évènement est passé. \n				\n				\n				\n				\n					\n	Points gâchettes et technique de libération des étirements musculaires				\n				\n		\n					\n				\n				\n					\n	\n	Date et heure :	\n			août 15\n\n		\n	\n	  -  \n\n	août 16\n\n	\n				\n				\n				\n				\n					\n	Coût : \n600- CHF 				\n				\n					\n				\n				\n				\n					\n	\n				\n				\n				\n						\n					\n			\n						\n				\n									\n\n			\n						\n			5.0 Étoiles basées sur 110 Commentaires\n\n 								\n				\n				\n				\n									Notre école de massothérapie IMAS Sàrl vous propose: Massage classique Formation complète (250 h) peut être suivi comme suit: 1 mois\, 3 mois ou 6 mois. Veuillez consulter les dates de cours et les informations sur les cours ci-dessous. OBJECTIFS GÉNÉRAUX DE LA FORMATION Développer à la fois des connaissances académiques des sciences humaines (anatomie\, physiologie\, psychologie)\, et des compétences axées sur les outils du thérapeute en devenir. Acquérir des compétences liées au massage bien-être. Se sensibiliser à l’état d’être du praticien\, à sa compréhension de l’humain. Effectuer un examen et un bilan minutieux sur les patients. 								\n				\n				\n				\n									Consultez les informations complètes sur le cours de massage sur ce lien ici.								\n				\n					\n		\n					\n		\n				\n						\n					\n			\n						\n				\n					Informations sur le lieu :				\n				\n				\n				\n					\n				\n				\n	\n			\n		IMAS Sàrl Fribourg			\n	\n	\n	Adresse :\n	\n\nRue de Locarno 6\n	\n		\n		Fribourg\,\n\n\n	1700\n\n	Switzerland\n\n\n\n\n	+ Google Map \n\n\n	\n	Téléphone :\n					\n			+41798965202			\n	 \n\n\n	\n	 \n\n\n\n	\n\n\n\n		\n	\n				\n				\n					\n		\n					\n		\n				\n						\n					\n			\n						\n				\n					\n	\n		\n\n				Massage tissus profonds avancé et ergonomie du masseur	\n\n\n		\n	\n		Massage tissus profonds avancé et ergonomie du masseur			\n\n	\n\n				\n				\n					\n		\n					\n		\n					\n		\n				\n			\n						\n				\n					Share this event:\n				\n				\n				\n				\n							\n								\n						\n															\n															\n																				\n					\n									\n						\n															\n															\n																				\n					\n									\n						\n															\n															\n																				\n					\n									\n						\n															\n															\n																				\n					\n									\n						\n															\n															\n																				\n					\n									\n						\n															\n															\n																				\n					\n						\n						\n				\n				\n				\n					\n	\n\n	Catégories :	\n		International Courses	\n\n				\n				\n				\n				\n					\n	\n	Organisateur\n			ÎMAS Academy Sàrl	\n\n	\n	\n\n	Téléphone :\n					\n			+41 79 896 52 02			\n	 \n\n\n	\n	E-mail :\n					\n			info@imaswiss.com			\n	 \n\n\n\n				\n				\n		\n					\n				\n				\n									\n					\n						\n						\n							\n									Contacter nous\n					\n					\n				\n								\n				\n					\n				\n				\n				\n					\n	\n		\n\n	\n	Ajouter au calendrier	\n		\n	\n\n		\n			\n									\n	Google Agenda\n\n									\n	iCalendar\n\n									\n	Outlook 365\n\n																\n		\n\n		\n	\n\n				\n				\n		\n					\n				\n				\n					S'inscrire\n				\n				\n				\n				\n							\n			\n			\n			\n\n							\n			\n			\n								\n												\n								First Name							\n														\n											\n								\n												\n								Last Name							\n														\n											\n								\n												\n								Email							\n														\n											\n								\n												\n								Phone							\n														\n											\n								\n												\n								Address							\n														\n											\n								\n												\n								Birth Date							\n														\n											\n								\n												\n								Message							\n										\n								\n									\n								\n									\n								\n							\n			\n				\n				\nJ'accepte la \n  \n    \n      politique de confidentialité\n    \n  \n\n			\n		\n						\n								\n													\n											\n								\n													\n											\n								\n													\n											\n								\n					\n						\n															\n																										\n																						S'INSCRIRE \n													\n					\n				\n			\n		\n						\n				\n					\n				\n					\n		\n					\n		\n		\n					\n				\n				\n					\n	\n	Événements liés\n\n\n	\n\n	\n	\n		\n\n		\n			\n	\n		Techniques de mobilisations et étirements	\n\n\n	mai 10 @ 08:30 - 17:30  UTC+0  \n		\n	\n\n\n	\n	\n		\n\n		\n			\n	\n		Maîtrise du Massage des Tissus Profonds	\n\n\n	mai 18 @ 08:30 - mai 22 @ 17:30  UTC+0
URL:https://imaswiss.com/evenement/trigger-points-and-muscles-stretches-release-technique/
LOCATION:IMAS Sàrl Fribourg\, Rue de Locarno 6\, Fribourg\, 1700\, Switzerland
CATEGORIES:International Courses
ATTACH;FMTTYPE=image/jpeg:https://imaswiss.com/wp-content/uploads/2024/08/massage-courses-imas-course-de-massage.jpg
ORGANIZER;CN="%C3%8EMAS Academy S%C3%A0rl":MAILTO:info@imaswiss.com
END:VEVENT
END:VCALENDAR