BEGIN:VCALENDAR
VERSION:2.0
PRODID:-//International Massage Academy of Switzerland (IMASWISS) - ECPv6.15.20//NONSGML v1.0//EN
CALSCALE:GREGORIAN
METHOD:PUBLISH
X-WR-CALNAME:International Massage Academy of Switzerland (IMASWISS)
X-ORIGINAL-URL:https://imaswiss.com
X-WR-CALDESC:Évènements pour International Massage Academy of Switzerland (IMASWISS)
REFRESH-INTERVAL;VALUE=DURATION:PT1H
X-Robots-Tag:noindex
X-PUBLISHED-TTL:PT1H
BEGIN:VTIMEZONE
TZID:UTC
BEGIN:STANDARD
TZOFFSETFROM:+0000
TZOFFSETTO:+0000
TZNAME:UTC
DTSTART:20250101T000000
END:STANDARD
END:VTIMEZONE
BEGIN:VEVENT
DTSTART;TZID=UTC:20260627T083000
DTEND;TZID=UTC:20260628T173000
DTSTAMP:20260425T112456
CREATED:20251110T160456Z
LAST-MODIFIED:20260312T080118Z
UID:10000066-1782549000-1782667800@imaswiss.com
SUMMARY:Cours De Massage Lomi Lomi
DESCRIPTION:Réflexologie Plantaire Avancé				\n				\n		\n					\n				\n				\n					\n	\n	Date et heure :	\n			juin 27\, 2026\n\n	\n\n	  @  \n\n\n08:30\n\n	\n\n		\n	\n	  -  \n\n	juin 28\, 2026\n\n	\n\n	  @  \n\n\n17:30\n\n\n\n	\n				\n				\n				\n				\n					\n	Coût : \n600.- CHF 				\n				\n					\n				\n				\n				\n									27-28 Juin 2026 08:30h-17:30h / 16 heures de formation continue Coût 600.- 								\n				\n				\n				\n					\n	\n				\n				\n		\n					\n				\n				\n									\n					\n						\n						\n							\n									Contacter nous\n					\n					\n				\n								\n				\n					\n				\n				\n						\n					\n			\n						\n				\n									\n\n			\n						\n			5.0 Étoiles basées sur 110 Commentaires\n\n 								\n				\n				\n				\n									Nous allons exercer des appuis sur différentes zones réflexes corporelles (pieds\, mains\, abdomen\, doux\, oreilles\, visage\, etc.)Dans le but de créer un retour à l’homéostasie du système nerveux donc\, une résolution des problèmes symptomatiques et psychosomatiques. Nous allons apprendre à combiner plusieurs zones réflexe corporelles clés pour une résolution de problèmes rapides. Nous allons apprendre à les intégrer dans nos techniques avec différents types de pressions et de toucher. Pour voir d’autres cours de massage\, veuillez consulter notre page d’agenda des cours et pour toute question ou pour procéder à l’inscription à ce cours de massage\, veuillez remplir le formulaire sur cette page. 								\n				\n				\n				\n									Consultez les informations complètes sur le cours de massage sur ce lien ici. 								\n				\n					\n		\n					\n		\n				\n						\n					\n			\n						\n				\n					Informations sur le lieu :				\n				\n				\n				\n					\n				\n				\n	\n			\n		IMAS Sàrl Fribourg			\n	\n	\n	Adresse :\n	\n\nRue de Locarno 6\n	\n		\n		Fribourg\,\n\n\n	1700\n\n	Switzerland\n\n\n\n\n	+ Google Map \n\n\n	\n	Téléphone :\n					\n			+41798965202			\n	 \n\n\n	\n	 \n\n\n\n	\n\n\n\n		\n	\n				\n				\n					\n		\n					\n		\n				\n						\n					\n			\n						\n				\n					\n	\n		\n\n				Portugal- Queijas près de Lisbonne "Trigger Points & techniques des étirements des muscles"	\n\n\n			\n\n				\n				\n					\n		\n					\n		\n					\n		\n				\n			\n						\n				\n					Share this event:\n				\n				\n				\n				\n							\n								\n						\n															\n															\n																				\n					\n									\n						\n															\n															\n																				\n					\n									\n						\n															\n															\n																				\n					\n									\n						\n															\n															\n																				\n					\n									\n						\n															\n															\n																				\n					\n									\n						\n															\n															\n																				\n					\n						\n						\n				\n				\n				\n					\n	\n\n	Catégories :	\n		Suisse Cours de Massage en Français	\n\n				\n				\n				\n				\n					\n	\n	Organisateur\n			ÎMAS Academy Sàrl	\n\n	\n	\n\n	Téléphone :\n					\n			+41 79 896 52 02			\n	 \n\n\n	\n	E-mail :\n					\n			info@imaswiss.com			\n	 \n\n\n\n				\n				\n				\n				\n					\n	\n		\n\n	\n	Ajouter au calendrier	\n		\n	\n\n		\n			\n									\n	Google Agenda\n\n									\n	iCalendar\n\n									\n	Outlook 365\n\n																\n		\n\n		\n	\n\n				\n				\n		\n					\n				\n				\n					S'inscrire\n				\n				\n				\n				\n							\n			\n			\n			\n\n			\n			\n								\n												\n								First Name							\n														\n											\n								\n												\n								Last Name							\n														\n											\n								\n												\n								Email							\n														\n											\n								\n												\n								Phone							\n														\n											\n								\n												\n								Address							\n														\n											\n								\n												\n								Birth Date							\n														\n											\n								\n												\n								Message							\n										\n								\n									\n								\n									\n								\n							\n			\n				\n				\nJ'accepte la \n  \n    \n      politique de confidentialité\n    \n  \n\n			\n		\n						\n								\n													\n											\n								\n													\n											\n								\n													\n											\n								\n					\n						\n															\n																										\n																						S'INSCRIRE
URL:https://imaswiss.com/evenement/cours-de-massage-lomi-lomi/
LOCATION:IMAS Sàrl Fribourg\, Rue de Locarno 6\, Fribourg\, 1700\, Switzerland
CATEGORIES:Suisse Cours de Massage en Français
ATTACH;FMTTYPE=image/png:https://imaswiss.com/wp-content/uploads/2023/03/Screenshot-2022-11-26-at-22.16.49-1.png
ORGANIZER;CN="%C3%8EMAS Academy S%C3%A0rl":MAILTO:info@imaswiss.com
END:VEVENT
END:VCALENDAR